BEGIN:VCALENDAR
VERSION:2.0
PRODID:-//PASTORAL EN ALLANDE - ECPv6.15.20//NONSGML v1.0//EN
CALSCALE:GREGORIAN
METHOD:PUBLISH
X-WR-CALNAME:PASTORAL EN ALLANDE
X-ORIGINAL-URL:https://pastoralenallande.com
X-WR-CALDESC:Eventos para PASTORAL EN ALLANDE
REFRESH-INTERVAL;VALUE=DURATION:PT1H
X-Robots-Tag:noindex
X-PUBLISHED-TTL:PT1H
BEGIN:VTIMEZONE
TZID:Europe/Madrid
BEGIN:DAYLIGHT
TZOFFSETFROM:+0100
TZOFFSETTO:+0200
TZNAME:CEST
DTSTART:20240331T010000
END:DAYLIGHT
BEGIN:STANDARD
TZOFFSETFROM:+0200
TZOFFSETTO:+0100
TZNAME:CET
DTSTART:20241027T010000
END:STANDARD
BEGIN:DAYLIGHT
TZOFFSETFROM:+0100
TZOFFSETTO:+0200
TZNAME:CEST
DTSTART:20250330T010000
END:DAYLIGHT
BEGIN:STANDARD
TZOFFSETFROM:+0200
TZOFFSETTO:+0100
TZNAME:CET
DTSTART:20251026T010000
END:STANDARD
BEGIN:DAYLIGHT
TZOFFSETFROM:+0100
TZOFFSETTO:+0200
TZNAME:CEST
DTSTART:20260329T010000
END:DAYLIGHT
BEGIN:STANDARD
TZOFFSETFROM:+0200
TZOFFSETTO:+0100
TZNAME:CET
DTSTART:20261025T010000
END:STANDARD
END:VTIMEZONE
BEGIN:VTIMEZONE
TZID:UTC
BEGIN:STANDARD
TZOFFSETFROM:+0000
TZOFFSETTO:+0000
TZNAME:UTC
DTSTART:20240101T000000
END:STANDARD
END:VTIMEZONE
BEGIN:VEVENT
DTSTART;TZID=Europe/Madrid:20250621T130000
DTEND;TZID=Europe/Madrid:20250621T140000
DTSTAMP:20260422T123625
CREATED:20250614T210913Z
LAST-MODIFIED:20250614T211010Z
UID:40527-1750510800-1750514400@pastoralenallande.com
SUMMARY:Solemnidad del Corpus Christi - Misa y procesión en Arganza
DESCRIPTION:¡Ven\, adoremos juntos a Cristo Eucaristía! \nQueridos hermanos y feligreses de Santa María de Arganza: \nCon alegría en el corazón\, los invitamos a vivir con fervor la solemnidad del Corpus Christi\, una de las fiestas más grandes de nuestra fe católica\, donde celebramos el don infinito del Cuerpo y la Sangre de Nuestro Señor Jesucristo en la Eucaristía. \n📅 Día: Sábado\, 21 de junio\n⏰ Hora: 1:00 PM (13:00 h)\n📍 Lugar: Iglesia de Santa María de Arganza \nLa Santa Misa será el centro de nuestra celebración\, pero el amor a Jesús Eucaristía no puede quedarse solo dentro del templo. Por eso\, al finalizar la Misa\, tendremos una solemne Procesión alrededor de la iglesia\, llevando en alto al Santísimo Sacramento para bendecir nuestras calles\, nuestras familias y nuestro pueblo. \n¿Por qué es tan importante esta fiesta?\nPorque el Corpus Christi nos recuerda que Jesús está verdaderamente presente en la Eucaristía\, no como un símbolo\, sino como alimento vivo que nos da fuerza para el camino. Es un día para renovar nuestra fe\, adoración y gratitud hacia este Misterio de Amor. \nEn un mundo donde muchos han olvidado el valor de lo sagrado\, nosotros\, como católicos\, testificamos con nuestra fe que Cristo es el Rey del universo y que quiere habitar en medio de su pueblo. \nLos esperamos para:\n✅ Participar en la Santa Misa (el mayor acto de amor de la Iglesia).\n✅ Acompañar a Jesús en la Procesión (para que Él reine en nuestras vidas).\n✅ Adorarle con devoción (porque en la Eucaristía está la fuente de toda gracia). \nNo dejemos pasar esta oportunidad de crecer en amor a la Eucaristía. Vengan en familia\, con amigos\, y juntos demos testimonio de que ¡Cristo vive y camina entre nosotros! \n«Yo soy el pan de vida; el que viene a mí no tendrá hambre\, y el que cree en mí no tendrá nunca sed» (Jn 6\,35). \n¡Que Santa María\, Mujer Eucarística\, nos acompañe en este día de gracia! \nCon afecto y bendición\,\nD. César Gustavo Acuña dos Santos\nPárroco de Santa María de Arganza \n«La Eucaristía es el secreto de mi día… Da fuerza y significado a todo lo que hago» (San Juan Pablo II)
URL:https://pastoralenallande.com/event/solemnidad-del-corpus-christi-misa-y-procesion-en-arganza/
LOCATION:Parroquia de Santa María de Arganza\, Asturias\, 33875\, Spain
CATEGORIES:Corpus Christi en Arganza
ATTACH;FMTTYPE=image/jpeg:https://pastoralenallande.com/wp-content/uploads/2025/06/adoration-scaled.jpg
END:VEVENT
BEGIN:VEVENT
DTSTART;TZID=Europe/Madrid:20250618T200000
DTEND;TZID=Europe/Madrid:20250626T170000
DTSTAMP:20260422T123625
CREATED:20250614T200541Z
LAST-MODIFIED:20250614T205708Z
UID:40519-1750276800-1750957200@pastoralenallande.com
SUMMARY:PEREGRINACIÓN DEL PÁRROCO A MEDUGORGE
DESCRIPTION:Un tiempo de gracia en Medjugorje:\nLlevándolos en el corazón junto a María \nQueridos hermanos y feligreses de la Unidad Pastoral de Allande: \nComo cada año por estas fechas\, siguiendo una hermosa tradición que alimenta mi espíritu\, me tomo unos días de descanso y oración en Medjugorje\, ese lugar bendito donde el cielo parece tocar la tierra y donde María Santísima\, nuestra Madre\, nos llama a renovar el corazón en su paz y en su amor. \nEn este peregrinaje\, no voy solo. Los llevo a todos conmigo –sus intenciones\, sus oraciones\, sus luchas\, sus alegrías y hasta esas dudas que a veces nublan el alma–. Allí\, ante la Reina de la Paz\, presento cada una de sus peticiones\, porque sé que Ella\, con su ternura maternal\, las coloca en las manos de su Hijo\, Jesús. \nEstos días son para mí un tiempo de silencio\, de escucha y de renovación espiritual\, porque un pastor no puede dar lo que no ha recibido. Necesito volver a la fuente\, recargar el alma en la oración y en la Eucaristía\, para regresar con más fuerza\, más fe y más amor a la hermosa encomienda pastoral que el Obispo me confió en esta tierra de Allande. \nSepan que\, aunque esté lejos físicamente\, espiritualmente estamos unidos. Cada rosario que rezo en aquellas colinas sagradas\, cada misa a la que asisto\, cada momento de adoración al Santísimo\, lo vivo con profundo agradecimiento por ser su sacerdote y con el compromiso de servirles cada día con mayor entrega. \nLes pido\, si pueden\, que oren también por mí\, para que esta peregrinación sea fructífera y que\, al regresar\, pueda seguir caminando a su lado\, guiado siempre por el Espíritu Santo y bajo el manto protector de nuestra Madre del Cielo. \n¡María\, Reina de la Paz\, ruega por nosotros!\n¡Hasta pronto\, querida familia de Allande! \nCon todo mi afecto y bendición\, \nD. César Gustavo Acuña dos Santos\nPárroco de la Unidad Pastoral de Allande
URL:https://pastoralenallande.com/event/peregrinacion-a-medugorge-de-parroco/
LOCATION:Medjugorje\, Medjugorje\, 88266\, Bosnia and Herzegovina
CATEGORIES:Peregrinación a Medugorge
ATTACH;FMTTYPE=image/jpeg:https://pastoralenallande.com/wp-content/uploads/2025/06/IMG_4097.jpg
END:VEVENT
BEGIN:VEVENT
DTSTART;TZID=Europe/Madrid:20250615T110000
DTEND;TZID=Europe/Madrid:20250615T120000
DTSTAMP:20260422T123625
CREATED:20250614T195332Z
LAST-MODIFIED:20250614T195332Z
UID:40514-1749985200-1749988800@pastoralenallande.com
SUMMARY:MISA DOMINICAL EN SANTA MARÍA DE CELÓN
DESCRIPTION:Un Encuentro de Fe y Fraternidad \nBajo el cielo generoso que cobija nuestro querido pueblo de Celón\, cada domingo a las 11:00 de la mañana\, el corazón de la comunidad late con fuerza en la Santa Misa\, donde nos reunimos para dar gracias a Dios por tantas bendiciones. \nHoy\, con alegría en el alma\, celebramos no solo la Eucaristía\, sino también la fraternidad viva que se ha ido tejiendo en esta parroquia. Unidos como hermanos\, alabamos al Señor por cada rostro\, por cada familia\, por aquellos que con su fe sencilla y su servicio hacen de esta comunidad un verdadero reflejo del amor de Cristo. \nLa Misa es el centro de nuestro domingo\, el momento en que el Pan de Vida nos fortalece para seguir caminando juntos. Pero la celebración no termina ahí… al finalizar\, como es tradición en Celón\, compartimos en comunidad\, porque la fe no solo se reza\, ¡se vive! En esos momentos de convivencia\, entre risas\, pláticas y el calor de un café\, se afianzan los lazos que nos hacen una gran familia en Cristo. \nInvitamos a todos a no faltar a esta cita semanal con la gracia de Dios. Que nadie se quede sin experimentar la alegría de ser parte de esta parroquia\, donde cada domingo renovamos nuestra fe y nuestro compromiso de ser testigos del Evangelio. \n¡Gracias\, Celón\, por tu fe\, por tu alegría y por tu corazón abierto!\n¡Que Santa María nos siga acompañando y que Jesús sea siempre el centro de nuestras vidas! \nNos vemos el domingo… ¡para alabar a Dios y compartir como hermanos! \n¡Feliz Domingo en Comunidad!
URL:https://pastoralenallande.com/event/misa-dominical-en-santa-maria-de-celon/
LOCATION:Parroquia Santa María de Celón\, Iglesia de Celón S/N\, Celón\, Asturias\, 33889\, Spain
CATEGORIES:Eucaristía dominical en Celón
ATTACH;FMTTYPE=image/jpeg:https://pastoralenallande.com/wp-content/uploads/2025/06/IMG_2769-scaled.jpg
ORGANIZER;CN="P. C%C3%A9sar - P%C3%A1rroco de la U.P":MAILTO:cesarsacerdote@outlook.es
END:VEVENT
BEGIN:VEVENT
DTSTART;TZID=Europe/Madrid:20250614T180000
DTEND;TZID=Europe/Madrid:20250614T190000
DTSTAMP:20260422T123625
CREATED:20250613T103917Z
LAST-MODIFIED:20250613T103917Z
UID:40455-1749924000-1749927600@pastoralenallande.com
SUMMARY:MISA DE SAN ANTONIO EN LA CAPILLA DE CARRILES
DESCRIPTION:Queridos hermanos y devotos de San Antonio de Padua \nCon fe y devoción\, los invitamos a la Santa Misa en honor a San Antonio de Padua\, protector y guía espiritual de nuestro pueblo de Carriles. Juntos elevaremos nuestras plegarias\, pidiendo su intercesión para que vele por nuestras familias\, nuestras necesidades y toda esta comunidad bendecida. \n📅 Día: Sábado 14 de junio\n⏰ Hora: 18:00 h\n📍 Lugar: Ermita/Capilla de Carriles (o especifica el sitio exacto) \nEn esta celebración\, encomendaremos especialmente a San Antonio los corazones de los fieles devotos\, para que su luz nos acompañe y su bondad nos proteja. \n‘Busquen primero el reino de Dios y su justicia\, y todo lo demás se les dará por añadidura.’ (Mateo 6:33) \n¡Los esperamos para honrar juntos al ‘Santo de los Milagros’!
URL:https://pastoralenallande.com/event/misa-de-san-antonio-en-la-capilla-de-carriles/
LOCATION:Capilla de San Antonio en Carriles-Arganza\, Capilla de San Antonio\, Carriles\, Asturias\, 33875\, Spain
CATEGORIES:Devoción popular
ATTACH;FMTTYPE=image/jpeg:https://pastoralenallande.com/wp-content/uploads/2025/06/istockphoto-489523238-612x612-1.jpg
END:VEVENT
BEGIN:VEVENT
DTSTART;TZID=Europe/Madrid:20250614T133000
DTEND;TZID=Europe/Madrid:20250614T140000
DTSTAMP:20260422T123625
CREATED:20250611T174418Z
LAST-MODIFIED:20250611T174418Z
UID:40355-1749907800-1749909600@pastoralenallande.com
SUMMARY:PRIMER ANIVERSARIO DE FALLECIMIENTO DE VIDALINA VILLANUEVA SUÁREZ
DESCRIPTION:Queridos hermanos de la Parroquia de Santa Coloma: \nCon fe y esperanza en la Resurrección\, os invitamos a uniros a la Santa Misa en sufragio por el eterno descanso de Vidalina\, con motivo de su primer aniversario de fallecimiento. \n📅 Día: Sábado\, 14 de junio\n⏰ Hora: 13:30 h\n📍 Lugar: Iglesia Parroquial de Santa Coloma \nEn este acto de amor y fe\, rogaremos juntos por el descanso de su alma y pediremos consuelo para sus familiares y amigos. Como nos enseña la Iglesia\, «la oración por los difuntos es el mayor acto de caridad» (2 Mac 12\, 46). \n¡Vuestras oraciones serán un bálsamo de esperanza!\n«La vida no termina\, se transforma» \nCon el consuelo que viene de Cristo\,\nParroquia de Santa Coloma
URL:https://pastoralenallande.com/event/primer-aniversario-de-fallecimiento-de-vidalina-villanueva-suarez/
LOCATION:Parroquia de Santa Coloma\, Santa Coloma S/N\, Santa Coloma\, Asturias\, 33888\, Spain
ATTACH;FMTTYPE=image/jpeg:https://pastoralenallande.com/wp-content/uploads/2025/06/FUNERALES-scaled.jpg
END:VEVENT
BEGIN:VEVENT
DTSTART;TZID=Europe/Madrid:20250613T130000
DTEND;TZID=Europe/Madrid:20250613T140000
DTSTAMP:20260422T123625
CREATED:20250611T173744Z
LAST-MODIFIED:20250611T173744Z
UID:40351-1749819600-1749823200@pastoralenallande.com
SUMMARY:MISA DE SAN ANTONIO
DESCRIPTION:¡Queridos hermanos de la Unidad Pastoral de Allande! \nEn este día tan especial\, cuando celebramos la tradicional Feria del Ganado en nuestro concejo\, os invitamos con alegría a uniros a la Santa Misa en honor a San Antonio de Padua\, el santo de los milagros y protector de los animales. \n📅 Fecha: Viernes\, 13 de junio\n⏰ Hora: 13:00 h\n📍 Lugar: Iglesia Parroquial de  San Andrés de Pola de Allande \nEn esta celebración pediremos especialmente: \n\n\nLa bendición de Dios para nuestros ganaderos\, agricultores y sus animales. \n\n\nLa intercesión de San Antonio por las necesidades de nuestras familias y por todo lo que parece «perdido» en nuestras vidas. \n\n\nLa prosperidad para nuestras tierras y tradiciones. \n\n\n«San Antonio\, glorioso taumaturgo\, ruega por nosotros y por nuestros campos» \n¡No faltéis a esta cita de fe y tradición!\nVenid con vuestras familias y amigos. \nUnidos en oración\,\nUnidad Pastoral de Allande
URL:https://pastoralenallande.com/event/misa-de-san-antonio/
LOCATION:Parroquia de San Andrés de Pola de Allande\, Plaza de la Iglesia S/N\, Pola de Allande\, Asturias\, 33880\, Spain
ATTACH;FMTTYPE=image/jpeg:https://pastoralenallande.com/wp-content/uploads/2025/06/2-1.jpg
END:VEVENT
BEGIN:VEVENT
DTSTART;TZID=Europe/Madrid:20250612T170000
DTEND;TZID=Europe/Madrid:20250612T180000
DTSTAMP:20260422T123625
CREATED:20250611T172627Z
LAST-MODIFIED:20250611T172627Z
UID:40346-1749747600-1749751200@pastoralenallande.com
SUMMARY:FUNERAL DE D. ISAURO VILLABOL LÓPEZ “VDO. DE MARINA GARCÍA FERNÁNDEZ”  (CASA PEPÓN – LLANECES\, ALLANDE)
DESCRIPTION:Falleció en Oviedo\, el 11 de junio de 2025\, a los 90 años de edad\, habiendo recibido los SS.SS. y La Bendición Apostólica. D.E.P \nSU HIJO: GONZALO VILLABOL GARCÍA; HIJA POLÍTICA: JOSEFINA MAYO ANTÓN; NIETO: DAMIAN VILLABOL MAYO; NIETA POLÍTICA: NAIARA FERNÁNDEZ IGLESIAS; HERMANOS: GONZALO(†) Y SARA(†); HERMANOS POLÍTICOS: GUADALUPE(†)\, MANUEL(†)\, VERGELINO(†)\, JESUSA\, INSOLINA\, MATILDE(†)\, ROBUSTIANO DANIEL(†) Y MANUEL (†); SOBRINOS\, PRIMOS Y DEMÁS FAMILIA. \n  \n               RUEGAN UNA ORACIÓN POR SU ALMA. \n\nY les agradecen la asistencia al funeral de cuerpo presente\, que por su eterno descanso se celebrará el JUEVES 12 a las CINCO de tarde en la Iglesia Parroquial de SANTA COLOMA\, ALLANDE y a continuación recibirá cristiana sepultura en el cementerio parroquial. \n  \nCAPILLA ARDIENTE: VELATORIO DE POLA DE ALLANDE TLF. – 985807293. EL MIERCOLES DE CINCO A NUEVE Y EL JUEVES A PARTIR DE LAS ONCE. SALIDA A LAS CUATRO. \n  \n NOTA: LA MISA SABATINA SERÁ CELEBRADA EL SÁBADO 5 DE JULIO A LAS SEIS DE LA TARDE EN LA IGLESIA PARROQUIAL DE SANTA COLOMA\, ALLANDE.
URL:https://pastoralenallande.com/event/funeral-de-d-isauro-villabol-lopez-vdo-de-marina-garcia-fernandez-casa-pepon-llaneces-allande/
LOCATION:Parroquia de Santa Coloma\, Santa Coloma S/N\, Santa Coloma\, Asturias\, 33888\, Spain
CATEGORIES:Funeral,Información a la Comunidad
ATTACH;FMTTYPE=image/jpeg:https://pastoralenallande.com/wp-content/uploads/2025/06/FUNERALES-scaled.jpg
ORGANIZER;CN="Funerarias del Suroccidente":MAILTO:info@funerariasdelsuroccidente.es
END:VEVENT
BEGIN:VEVENT
DTSTART;TZID=UTC:20250611T180000
DTEND;TZID=UTC:20250611T190000
DTSTAMP:20260422T123625
CREATED:20240614T191739Z
LAST-MODIFIED:20250611T103040Z
UID:39778-1749664800-1749668400@pastoralenallande.com
SUMMARY:FUNERAL DE JOAQUÍN LÓPEZ RODRÍGUEZ - (CASA AGOSTA – OTERO\, ALLANDE)
DESCRIPTION:Falleció en el Hospital Comarcal de Cangas del Narcea\, el 10 de junio de 2025\, a los 85 años de edad\, habiendo recibido los SS.SS. y La Bendición Apostólica. D.E.P. \nSU HERMANA: MARIA(†); HERMANO POLITICO: MANUEL(†); SOBRINOS: Mª CARMEN\, EVA\, JOSE ANTONIO Y MIGUEL ANGEL; SOBRINOS POLITICOS: JOSE ANTONIO Y JULIO; SOBRINOS NIETOS: ANA\, CRISTINA\, ZAYRA; ALBERTO\, ADRIAN Y MATEO; NIETA: MIRTA; PRIMOS Y DEMÁS FAMILIA.
URL:https://pastoralenallande.com/event/a-catholic-musical-celebration-2/
LOCATION:Parróquia de Lomes\, Iglesia parroquial de Lomes\, Lomes\, Asturias\, 33890\, Spain
CATEGORIES:Funeral,Información a la Comunidad
ORGANIZER;CN="P. C%C3%A9sar - P%C3%A1rroco de la U.P":MAILTO:cesarsacerdote@outlook.es
END:VEVENT
END:VCALENDAR